BEGIN:VCALENDAR
VERSION:2.0
PRODID:-//Cranbrook History Centre - ECPv6.15.20//NONSGML v1.0//EN
CALSCALE:GREGORIAN
METHOD:PUBLISH
X-WR-CALNAME:Cranbrook History Centre
X-ORIGINAL-URL:https://www.cranbrookhistorycentre.com
X-WR-CALDESC:Events for Cranbrook History Centre
REFRESH-INTERVAL;VALUE=DURATION:PT1H
X-Robots-Tag:noindex
X-PUBLISHED-TTL:PT1H
BEGIN:VTIMEZONE
TZID:America/Edmonton
BEGIN:DAYLIGHT
TZOFFSETFROM:-0700
TZOFFSETTO:-0600
TZNAME:MDT
DTSTART:20250309T090000
END:DAYLIGHT
BEGIN:STANDARD
TZOFFSETFROM:-0600
TZOFFSETTO:-0700
TZNAME:MST
DTSTART:20251102T080000
END:STANDARD
BEGIN:DAYLIGHT
TZOFFSETFROM:-0700
TZOFFSETTO:-0600
TZNAME:MDT
DTSTART:20260308T090000
END:DAYLIGHT
BEGIN:STANDARD
TZOFFSETFROM:-0600
TZOFFSETTO:-0700
TZNAME:MST
DTSTART:20261101T080000
END:STANDARD
BEGIN:DAYLIGHT
TZOFFSETFROM:-0700
TZOFFSETTO:-0600
TZNAME:MDT
DTSTART:20270314T090000
END:DAYLIGHT
BEGIN:STANDARD
TZOFFSETFROM:-0600
TZOFFSETTO:-0700
TZNAME:MST
DTSTART:20271107T080000
END:STANDARD
END:VTIMEZONE
BEGIN:VEVENT
DTSTART;TZID=America/Edmonton:20260521T173000
DTEND;TZID=America/Edmonton:20260521T193000
DTSTAMP:20260422T153741
CREATED:20260422T152712Z
LAST-MODIFIED:20260422T152712Z
UID:10000712-1779384600-1779391800@www.cranbrookhistorycentre.com
SUMMARY:Annual General Meeting - CAMAL
DESCRIPTION:NOTICE OF ANNUAL GENERAL MEETING \nNotice is hereby given that the Annual General Meeting (“AGM”) of the members of the Cranbrook Archives\, Museum & Landmarks Society (the “Society”) will be held as follows: \n\n\n\n\n\n\n\nDate: Thursday\, May 21\, 2026 \nTime: 5:30 PM – 7:30 PM \nLocation: Fort Steele Heritage Town \n\nPurpose of the Meeting: \nAgenda: \n1. Welcome and Opening Remarks \n2. Approval of Minutes from the Previous AGM \n3. Presentation of the Annual Report \n4. Financial Statements and Auditor’s Report \n5. Election/Re-election of Board Members \n6. Plans and Initiatives for the Upcoming Year \n7. Member Questions and Open Discussion \n8. Any Other Business (AOB) \n9. Closing Remarks \n \nRecord Date / Eligibility to Vote: \nAll members in good standing as of June are entitled to receive notice of\, attend\, and vote at the AGM. \n\nQuorum: \nQuorum for the meeting will be established in accordance with the Society’s bylaws. \n \nMeeting Materials: \nMeeting Materials will be available at the AGM \n\nRSVP / Attendance Confirmation:  \nMembers are requested to confirm attendance by May 19th\, 2026. \nmembership@camal.org \nhttps://www.camal.org/member \n\nFollowing the AGM\, members are invited to attend a Members’ BBQ and appreciation event at Fort Steele Heritage Town. \nThank you for your support and for being part of our community! \nIf you would like to get a membership\, click HERE – https://www.camal.org/member
URL:https://www.cranbrookhistorycentre.com/event/annual-general-meeting-camal/
LOCATION:Fort Steele Heritage Town\, 9851 BC-95\, Fort Steele\, BC\, V0B 1N0\, Canada
ATTACH;FMTTYPE=image/png:https://www.cranbrookhistorycentre.com/wp-content/uploads/2026/04/Untitled-design-6-1.png
END:VEVENT
END:VCALENDAR