BEGIN:VCALENDAR
VERSION:2.0
PRODID:-//Cranbrook History Centre - ECPv6.15.20//NONSGML v1.0//EN
CALSCALE:GREGORIAN
METHOD:PUBLISH
X-WR-CALNAME:Cranbrook History Centre
X-ORIGINAL-URL:https://www.cranbrookhistorycentre.com
X-WR-CALDESC:Events for Cranbrook History Centre
REFRESH-INTERVAL;VALUE=DURATION:PT1H
X-Robots-Tag:noindex
X-PUBLISHED-TTL:PT1H
BEGIN:VTIMEZONE
TZID:America/Edmonton
BEGIN:DAYLIGHT
TZOFFSETFROM:-0700
TZOFFSETTO:-0600
TZNAME:MDT
DTSTART:20220313T090000
END:DAYLIGHT
BEGIN:STANDARD
TZOFFSETFROM:-0600
TZOFFSETTO:-0700
TZNAME:MST
DTSTART:20221106T080000
END:STANDARD
BEGIN:DAYLIGHT
TZOFFSETFROM:-0700
TZOFFSETTO:-0600
TZNAME:MDT
DTSTART:20230312T090000
END:DAYLIGHT
BEGIN:STANDARD
TZOFFSETFROM:-0600
TZOFFSETTO:-0700
TZNAME:MST
DTSTART:20231105T080000
END:STANDARD
BEGIN:DAYLIGHT
TZOFFSETFROM:-0700
TZOFFSETTO:-0600
TZNAME:MDT
DTSTART:20240310T090000
END:DAYLIGHT
BEGIN:STANDARD
TZOFFSETFROM:-0600
TZOFFSETTO:-0700
TZNAME:MST
DTSTART:20241103T080000
END:STANDARD
END:VTIMEZONE
BEGIN:VEVENT
DTSTART;TZID=America/Edmonton:20231210T020000
DTEND;TZID=America/Edmonton:20231210T160000
DTSTAMP:20260423T191752
CREATED:20231126T163704Z
LAST-MODIFIED:20231126T192501Z
UID:10000331-1702173600-1702224000@www.cranbrookhistorycentre.com
SUMMARY:Mountain Sound Community Choir
DESCRIPTION:The Cranbrook History Centre will be hosting the Mountain Song community choir as they present Joy of Christmas. \nTickets are now available for their performance. Show is December 10th at 2;30pm in the Royal Alexandra Hall. We will have some light refreshments and snacks after the singing. \nTickets can be purchased at Joy of Christmas Tickets available – Mountain Song
URL:https://www.cranbrookhistorycentre.com/event/mountain-sound-community-choir/
LOCATION:Royal Alexandra Hall\, 57 Van Horne Street S\, Cranbrook\, British Columbia\, V1C 7A8\, Canada
ATTACH;FMTTYPE=image/png:https://www.cranbrookhistorycentre.com/wp-content/uploads/2023/11/thumbnail_PosterChoirConcert.png
END:VEVENT
END:VCALENDAR