BEGIN:VCALENDAR
VERSION:2.0
PRODID:-//Cranbrook History Centre - ECPv6.15.20//NONSGML v1.0//EN
CALSCALE:GREGORIAN
METHOD:PUBLISH
X-ORIGINAL-URL:https://www.cranbrookhistorycentre.com
X-WR-CALDESC:Events for Cranbrook History Centre
REFRESH-INTERVAL;VALUE=DURATION:PT1H
X-Robots-Tag:noindex
X-PUBLISHED-TTL:PT1H
BEGIN:VTIMEZONE
TZID:America/Edmonton
BEGIN:DAYLIGHT
TZOFFSETFROM:-0700
TZOFFSETTO:-0600
TZNAME:MDT
DTSTART:20220313T090000
END:DAYLIGHT
BEGIN:STANDARD
TZOFFSETFROM:-0600
TZOFFSETTO:-0700
TZNAME:MST
DTSTART:20221106T080000
END:STANDARD
BEGIN:DAYLIGHT
TZOFFSETFROM:-0700
TZOFFSETTO:-0600
TZNAME:MDT
DTSTART:20230312T090000
END:DAYLIGHT
BEGIN:STANDARD
TZOFFSETFROM:-0600
TZOFFSETTO:-0700
TZNAME:MST
DTSTART:20231105T080000
END:STANDARD
BEGIN:DAYLIGHT
TZOFFSETFROM:-0700
TZOFFSETTO:-0600
TZNAME:MDT
DTSTART:20240310T090000
END:DAYLIGHT
BEGIN:STANDARD
TZOFFSETFROM:-0600
TZOFFSETTO:-0700
TZNAME:MST
DTSTART:20241103T080000
END:STANDARD
END:VTIMEZONE
BEGIN:VEVENT
DTSTART;TZID=America/Edmonton:20230121T181500
DTEND;TZID=America/Edmonton:20230121T230000
DTSTAMP:20260421T075546
CREATED:20230111T212544Z
LAST-MODIFIED:20230111T212544Z
UID:10000212-1674324900-1674342000@www.cranbrookhistorycentre.com
SUMMARY:Barney Bentall w/ Wild Honey Band
DESCRIPTION:Barney Bentall will grace the stage in this intimate setting with guests Wild Honey. \nGeneral Admission \nDoors Open at 6:15 pm \nShow Starts at 7:00 pm \n  \nTickets Here !!!
URL:https://www.cranbrookhistorycentre.com/event/barney-bentall-w-wild-honey-band/
ATTACH;FMTTYPE=image/jpeg:https://www.cranbrookhistorycentre.com/wp-content/uploads/2023/01/honey-band.jpg
END:VEVENT
BEGIN:VEVENT
DTSTART;TZID=America/Edmonton:20230125T180000
DTEND;TZID=America/Edmonton:20230125T190000
DTSTAMP:20260421T075546
CREATED:20221222T191852Z
LAST-MODIFIED:20230119T175159Z
UID:10000211-1674669600-1674673200@www.cranbrookhistorycentre.com
SUMMARY:Author Reading *Giller Prize Winner Suzette Mayr*
DESCRIPTION:Join the Cranbrook History Centre for an exclusive reading with 2022 Giller Prize Winner\, Suzette Mayr\, and her newest award-winning book The Sleeping Car Porter. The historic Argyle Dining Car\, the real-life setting of the fictional novel\, provides an intimate setting for this half-hour reading\, moderated question period and meet & greet with the author. \n  \nWhat people are saying about The Sleeping Car Porter \n“I couldn’t help imagining what a film Wes Anderson might make of Suzette Mayr’s The Sleeping Car Porter. The novel’s main character is a gay Black porter riding the rails in 1920’s Canada\, coping with a horde of difficult long-haul passengers\, including a child who appears to have permanently attached herself to his leg. Terrified that a breach of one of the railway’s insanely restrictive rules will get him fired before he can save enough money for dental school\, he amuses himself―and keeps awake on his grueling shifts―by imagining the medical horrors that lie behind the smiles (or grimaces) of his clientele.” – The New York Times \n“Mayr’s prose is vivid but never overwrought\, capturing the surrealism of intense fatigue in constant motion … Readers will be captivated.” – Publishers Weekly\, starred review \n“Suzette Mayr brings to life –believably\, achingly\, thrillingly –a whole world contained in a passenger train moving across the Canadian vastness\, nearly one hundred years ago. As only occurs in the finest historical novels\, every page in The Sleeping Car Porter feels alive and immediate –and eerily contemporary. The sleeping car porter in this sleek\, stylish novel is named R.T. Baxter –called George by the people upon whom he waits\, as is every other Black porter. Baxter’s dream of one day going to school to learn dentistry coexists with his secret life as a gay man\, and in Mayr’s triumphant novel we follow him not only from Montreal to Calgary\, but into and out of the lives of an indelibly etched cast of supporting characters\, and\, finally\, into a beautifully rendered radiance.” – 2022 Scotiabank Giller Prize Jury \nAwards \nWINNER OF THE 2022 SCOTIABANK GILLER PRIZE \nPUBLISHERS WEEKLY TOP 20 LITERARY FICTION BOOKS OF 2022 \nTHE GLOBE 100: THE BEST BOOKS OF 2022 \nCBC BOOKS: THE BEST CANADIAN FICTION OF 2022 \n  \nTickets: $40.00 + GST\nTicket includes the exclusive reading\, a copy of The Sleeping Car Porter\, and refreshments. *Limited tickets available*\n*Your included copy of The Sleeping Car Porter can be picked up in advance from Huckleberry Books*  Please present your email ticket confirmation to Huckleberry staff on pick-up \n*Sold Out*\n*All proceeds of this fundraising event will support future programming at the Museum \nAbout the Author \nSuzette Mayr is the author of six novels including her most recent\, The Sleeping Car Porter\, which won the 2022 Scotiabank Giller Award. Her other novels have won the ReLit Award and City of Calgary W.O. Mitchell Book Prize\, and been nominated for the Scotiabank Giller Prize\, the Commonwealth Prize for Best Book in the Canada-Caribbean Region\, the Writers’ Guild of Alberta’s Best First Book and Best Novel Awards\, and the Ferro-Grumley Award for LGBT Fiction. Mayr has also published articles in the peer-reviewed journals Horror Studies\, Canadian Literature\, Studies in Canadian Literature\, The Journal of the Association for the Study of Australian Literature\, and in Antipodes. She is a Professor in the Department of English at the University of Calgary where she teaches fiction-writing.
URL:https://www.cranbrookhistorycentre.com/event/author-reading-giller-prize-winner-suzette-mayr/
LOCATION:Cranbrook History Centre\, 57 Van Horne Street South\, Cranbrook\, British Columbia\, V1C 4H9\, Canada
CATEGORIES:Special Event
ATTACH;FMTTYPE=image/png:https://www.cranbrookhistorycentre.com/wp-content/uploads/2022/12/Author-Reading-January-25.png
ORGANIZER;CN="The Cranbrook History Centre":MAILTO:info@cranbrookhistorycentre.com
END:VEVENT
BEGIN:VEVENT
DTSTART;TZID=America/Edmonton:20230125T193000
DTEND;TZID=America/Edmonton:20230125T204500
DTSTAMP:20260421T075546
CREATED:20221222T183050Z
LAST-MODIFIED:20221222T213632Z
UID:10000210-1674675000-1674679500@www.cranbrookhistorycentre.com
SUMMARY:Ed Talk - Suzette Mayr
DESCRIPTION:As part of the background research for her award-winning novel The Sleeping Car Porter\, Suzette Mayr visited numerous archives across Canada and in the United States. The Cranbrook History Centre was a key resource for Mayr as she worked to situate her fictional main character within a non-fiction\, historical setting. In this talk\, Mayr will discuss the ways in which she incorporated historical research and Cranbrook History Centre artifacts into the novel – using the research as a frame and guide for the work – while also realizing at a certain point that\, as Kate Atkinson writes\, “sometimes to find the truth at the heart of a book a certain amount of reality falls by the wayside.” \nEd Talks are always free to attend but space is limited so please be sure to register \nRegister Here\n  \nAbout the Author \nSuzette Mayr is the author of six novels including her most recent\, The Sleeping Car Porter\, which won the 2022 Scotiabank Giller Award. Her other novels have won the ReLit Award and City of Calgary W.O. Mitchell Book Prize\, and been nominated for the Scotiabank Giller Prize\, the Commonwealth Prize for Best Book in the Canada-Caribbean Region\, the Writers’ Guild of Alberta’s Best First Book and Best Novel Awards\, and the Ferro-Grumley Award for LGBT Fiction. Mayr has also published articles in the peer-reviewed journals Horror Studies\, Canadian Literature\, Studies in Canadian Literature\, The Journal of the Association for the Study of Australian Literature\, and in Antipodes. She is a Professor in the Department of English at the University of Calgary where she teaches fiction-writing. \n  \n  \n  \nCopies of The Sleeping Car Porter can be purchased ahead of the Ed Talk at the Cranbrook History Centre giftshop and Huckleberry Books \n  \nThe Ed Talk Program is funded by the Community Foundation of the Kootenay Rockies and Cranbrook Rotary.
URL:https://www.cranbrookhistorycentre.com/event/ed-talk-suzette-mayr/
LOCATION:Royal Alexandra Hall\, 57 Van Horne Street S\, Cranbrook\, British Columbia\, V1C 7A8\, Canada
ATTACH;FMTTYPE=image/png:https://www.cranbrookhistorycentre.com/wp-content/uploads/2022/12/truth-Instagram-Post-Square-1.png
END:VEVENT
BEGIN:VEVENT
DTSTART;TZID=America/Edmonton:20230131T103000
DTEND;TZID=America/Edmonton:20230131T113000
DTSTAMP:20260421T075546
CREATED:20221222T165722Z
LAST-MODIFIED:20221222T214822Z
UID:10000209-1675161000-1675164600@www.cranbrookhistorycentre.com
SUMMARY:Toddler Tuesday - Trains\, Trains Trains!
DESCRIPTION:Join us for story time in one of our historic train cars! Free activity hosted by the museum afterwards. \nAs a way of connecting our community with our collections\, the museum is partnering with the Cranbrook Public Library on this monthly program. The hour-long program offers a free story time led by the library\, and a fun and family-friendly craft activity to complete afterwards. Entry to the program is free\, but due to space restrictions\, registration is mandatory. Register early as the event fills up quickly! \nRegister Here\nToddler Tuesday runs the last Tuesday of every month September until May.
URL:https://www.cranbrookhistorycentre.com/event/toddler-tuesday-trains-trains-trains/
LOCATION:Cranbrook History Centre\, 57 Van Horne Street South\, Cranbrook\, British Columbia\, V1C 4H9\, Canada
CATEGORIES:Toddler Tuesdays
ATTACH;FMTTYPE=image/png:https://www.cranbrookhistorycentre.com/wp-content/uploads/2022/12/Toddler-Tuesday-January-2023.png
END:VEVENT
END:VCALENDAR