BEGIN:VCALENDAR
VERSION:2.0
PRODID:-//Cranbrook History Centre - ECPv6.15.20//NONSGML v1.0//EN
CALSCALE:GREGORIAN
METHOD:PUBLISH
X-ORIGINAL-URL:https://www.cranbrookhistorycentre.com
X-WR-CALDESC:Events for Cranbrook History Centre
REFRESH-INTERVAL;VALUE=DURATION:PT1H
X-Robots-Tag:noindex
X-PUBLISHED-TTL:PT1H
BEGIN:VTIMEZONE
TZID:America/Edmonton
BEGIN:DAYLIGHT
TZOFFSETFROM:-0700
TZOFFSETTO:-0600
TZNAME:MDT
DTSTART:20210314T090000
END:DAYLIGHT
BEGIN:STANDARD
TZOFFSETFROM:-0600
TZOFFSETTO:-0700
TZNAME:MST
DTSTART:20211107T080000
END:STANDARD
BEGIN:DAYLIGHT
TZOFFSETFROM:-0700
TZOFFSETTO:-0600
TZNAME:MDT
DTSTART:20220313T090000
END:DAYLIGHT
BEGIN:STANDARD
TZOFFSETFROM:-0600
TZOFFSETTO:-0700
TZNAME:MST
DTSTART:20221106T080000
END:STANDARD
BEGIN:DAYLIGHT
TZOFFSETFROM:-0700
TZOFFSETTO:-0600
TZNAME:MDT
DTSTART:20230312T090000
END:DAYLIGHT
BEGIN:STANDARD
TZOFFSETFROM:-0600
TZOFFSETTO:-0700
TZNAME:MST
DTSTART:20231105T080000
END:STANDARD
END:VTIMEZONE
BEGIN:VEVENT
DTSTART;TZID=America/Edmonton:20221203T190000
DTEND;TZID=America/Edmonton:20221203T233000
DTSTAMP:20260421T094259
CREATED:20220907T230605Z
LAST-MODIFIED:20220915T151014Z
UID:10000294-1670094000-1670110200@www.cranbrookhistorycentre.com
SUMMARY:Murder Mystery Dinner – We Are Not Amused - Encore Presentation
DESCRIPTION:You asked for it Cranbrook\, and we’re more than happy to deliver it!\n\n\n\nAfter selling out our Interactive Murder Mystery Dining Experience in less than a week (!!) we’ve decided to add another show! The entire cast has agreed to return to entertain you!\n\n\n\nDecember 3rd\, 2022 at 7 PM\, in the luxurious Royal Alexandra Hall\n\n\n\nProudly sponsored by the City of Cranbrook\, Fitness INC and Mike Paugh – IG Wealth Management! Please support local!\n\n\n\nSaturday\, December 3rd\, 2022:\n\n\n\n6:00 Doors Open\n6:15 Bar Opens\n7:00 Show Starts\n7:30 Dinner*\n9:00 Show Ends*\n9:10 to 11:00 Dance*\n\n\n\nPlease note\, that this is a 19+ licensed event.\n\n\n\nTickets go live Saturday morning! Check our website before they sell out again!\n\n\n\n“Boo hoo! Boo hoo is what you’ll cry when the man with the deals passes you by!”\n\n\n\nWho says there’s nothing to do in Cranbrook?? Not the Cranbrook History Centre!!\n\n  \n*times subject to change \nTickets are SOLD OUT!!!!!!
URL:https://www.cranbrookhistorycentre.com/event/murder-mystery-dinner-we-are-not-amused-encore-presentation/
CATEGORIES:Special Event
ATTACH;FMTTYPE=image/png:https://www.cranbrookhistorycentre.com/wp-content/uploads/2022/09/Encore-Instagram-Post-Square-Facebook-Cover.png
END:VEVENT
BEGIN:VEVENT
DTSTART;TZID=America/Edmonton:20221220T103000
DTEND;TZID=America/Edmonton:20221220T113000
DTSTAMP:20260421T094259
CREATED:20221129T175129Z
LAST-MODIFIED:20221212T222858Z
UID:10000208-1671532200-1671535800@www.cranbrookhistorycentre.com
SUMMARY:Toddler Tuesday - December Holiday Edition!
DESCRIPTION:Join us for a Holiday story time at the festive Cranbrook History Centre! Free craft hosted by the museum afterwards. \nAs a way of connecting our community with our collections\, the museum is partnering with the Cranbrook Public Library on this monthly program. The hour-long program offers a free story time led by the library\, and a fun and family-friendly craft activity to complete afterwards. Entry to the program is free\, but due to space restrictions\, registration is mandatory. Register early as the event fills up quickly! \nSold Out!\nToddler Tuesday runs the last Tuesday of every month September until May.
URL:https://www.cranbrookhistorycentre.com/event/toddler-tuesday-december-holiday-edition/
LOCATION:Cranbrook History Centre\, 57 Van Horne Street South\, Cranbrook\, British Columbia\, V1C 4H9\, Canada
CATEGORIES:Toddler Tuesdays
ATTACH;FMTTYPE=image/png:https://www.cranbrookhistorycentre.com/wp-content/uploads/2022/11/Toddler-Tuesday-Holiday-Edition.png
END:VEVENT
END:VCALENDAR