BEGIN:VCALENDAR
VERSION:2.0
PRODID:-//Cranbrook History Centre - ECPv6.15.20//NONSGML v1.0//EN
CALSCALE:GREGORIAN
METHOD:PUBLISH
X-ORIGINAL-URL:https://www.cranbrookhistorycentre.com
X-WR-CALDESC:Events for Cranbrook History Centre
REFRESH-INTERVAL;VALUE=DURATION:PT1H
X-Robots-Tag:noindex
X-PUBLISHED-TTL:PT1H
BEGIN:VTIMEZONE
TZID:America/Edmonton
BEGIN:DAYLIGHT
TZOFFSETFROM:-0700
TZOFFSETTO:-0600
TZNAME:MDT
DTSTART:20210314T090000
END:DAYLIGHT
BEGIN:STANDARD
TZOFFSETFROM:-0600
TZOFFSETTO:-0700
TZNAME:MST
DTSTART:20211107T080000
END:STANDARD
BEGIN:DAYLIGHT
TZOFFSETFROM:-0700
TZOFFSETTO:-0600
TZNAME:MDT
DTSTART:20220313T090000
END:DAYLIGHT
BEGIN:STANDARD
TZOFFSETFROM:-0600
TZOFFSETTO:-0700
TZNAME:MST
DTSTART:20221106T080000
END:STANDARD
BEGIN:DAYLIGHT
TZOFFSETFROM:-0700
TZOFFSETTO:-0600
TZNAME:MDT
DTSTART:20230312T090000
END:DAYLIGHT
BEGIN:STANDARD
TZOFFSETFROM:-0600
TZOFFSETTO:-0700
TZNAME:MST
DTSTART:20231105T080000
END:STANDARD
END:VTIMEZONE
BEGIN:VEVENT
DTSTART;TZID=America/Edmonton:20220901T180000
DTEND;TZID=America/Edmonton:20220901T220000
DTSTAMP:20260421T163014
CREATED:20220819T212246Z
LAST-MODIFIED:20220831T185233Z
UID:10000289-1662055200-1662069600@www.cranbrookhistorycentre.com
SUMMARY:Interactive Murder Mystery Dining Experience Auditions
DESCRIPTION:CASTING CALL!\n\n\nOpen auditions! No experience necessary! Everyone welcome!\n\n\nThursday September 1st at 6PM in the Royal Alexandra Hall at The Cranbrook History Centre.\n\n\nThese auditions are for our new ongoing Interactive Murder Mystery Dining Experience series–The YOUdunnit!\n\n\nSee pic for roles. Please come ready with a short monologue and prepared to do a cold reading.\n\n\nprograms@cranbrookhistorycentre.com\nto sign up for an audition timeslot\nAttn: AUDITION\n\n\n#CHC #cranbrookhistorycentre #audition #murdermystery #murdermysteryparty #whodunnit #YOUdunnit #somethingtodo #whosaystheresnothingtodoincranbrook\n#eveningout #historicrailcars #queenelizabeth #winstonchurchill #JFK #JackieO #rodserling #porter #marilynmonroe
URL:https://www.cranbrookhistorycentre.com/event/interactive-murder-mystery-dining-experience-auditions/
LOCATION:Royal Alexandra Hall\, 57 Van Horne Street S\, Cranbrook\, British Columbia\, V1C 7A8\, Canada
CATEGORIES:Special Event
ATTACH;FMTTYPE=image/png:https://www.cranbrookhistorycentre.com/wp-content/uploads/2022/08/CASTING-CALL-Instagram-Post-Square.png
END:VEVENT
BEGIN:VEVENT
DTSTART;TZID=America/Edmonton:20220903T103000
DTEND;TZID=America/Edmonton:20220903T113000
DTSTAMP:20260421T163014
CREATED:20220628T175202Z
LAST-MODIFIED:20220830T205813Z
UID:10000202-1662201000-1662204600@www.cranbrookhistorycentre.com
SUMMARY:Historic Walking Tours - The Communities That Forged Cranbrook
DESCRIPTION:Historic Walking Tours – The Communities That Forged Cranbrook\nMeet up at The Cranbrook History Centre \nTickets $7.50 \nKids 10 and under Free \n*Make sure to select the date in the drop-down menu you wish to take* \nPurchase Tickets HERE
URL:https://www.cranbrookhistorycentre.com/event/historic-walking-tours-the-communities-that-forged-cranbrook-9/
ATTACH;FMTTYPE=image/png:https://www.cranbrookhistorycentre.com/wp-content/uploads/2022/06/Walking-Tour-Ad.png
END:VEVENT
BEGIN:VEVENT
DTSTART;TZID=America/Edmonton:20220908T110000
DTEND;TZID=America/Edmonton:20220908T150000
DTSTAMP:20260421T163014
CREATED:20220903T205547Z
LAST-MODIFIED:20220903T205547Z
UID:10000293-1662634800-1662649200@www.cranbrookhistorycentre.com
SUMMARY:Blackpress presents Post-Secondary Education & Career Event!
DESCRIPTION:Join us in person at the Cranbrook Post-Secondary Education & Career Event!\n\n\n\nhttps://events.blackpress.ca/cranbrook/\n\n\n\nSeptember 8th\, 2022 | 11:00am – 3:00pm\n\nCranbrook History Centre\n57 Van Horne St. S\, Cranbrook\, BC
URL:https://www.cranbrookhistorycentre.com/event/blackpress-presents-post-secondary-education-career-event/
ATTACH;FMTTYPE=image/jpeg:https://www.cranbrookhistorycentre.com/wp-content/uploads/2022/09/300768659_470876358381851_4778576850723344178_n.jpg
END:VEVENT
BEGIN:VEVENT
DTSTART;TZID=America/Edmonton:20220924T190000
DTEND;TZID=America/Edmonton:20220924T200000
DTSTAMP:20260421T163014
CREATED:20220811T200401Z
LAST-MODIFIED:20220819T221146Z
UID:10000288-1664046000-1664049600@www.cranbrookhistorycentre.com
SUMMARY:Rotary Club Historic Walking Tour
DESCRIPTION:This tour will primarily focus on the origin of the Rotary Club in Cranbrook\, Rotary’s impact on Cranbrook\, and the significance of Rotary currently. This tour will also point out projects that the Rotary Club of Cranbrook Sunrise has done over the years that helped shape the Cranbrook we see today and how those projects have contributed to the town’s beautification. \nOn September 24th\, 2022 at 7 pm\, the tour will start at Rotary Park\, then will walk past many historical sights on the way to the Cranbrook Arch and will end in the Clock Tower. \n  \nTickets Here!
URL:https://www.cranbrookhistorycentre.com/event/rotary-club-historic-walking-tour/
LOCATION:Rotary Park (10th Ave and 2nd Street South)
CATEGORIES:Special Event
ATTACH;FMTTYPE=image/png:https://www.cranbrookhistorycentre.com/wp-content/uploads/2022/08/Rotary-Walking-Tour-Instagram-Post-Square-2-1.png
END:VEVENT
BEGIN:VEVENT
DTSTART;TZID=America/Edmonton:20220927T103000
DTEND;TZID=America/Edmonton:20220927T233000
DTSTAMP:20260421T163014
CREATED:20220830T202644Z
LAST-MODIFIED:20220830T205024Z
UID:10000291-1664274600-1664321400@www.cranbrookhistorycentre.com
SUMMARY:Toddlers Tuesday
DESCRIPTION:Join us for a train storytime surrounded by local railcars! Free craft hosted by the museum afterwards. \nToddler Tuesdays is an off-season (September – May) program that takes place at the Cranbrook History Centre on the last Tuesday of every month. \nAs a way of connecting our community with our collections\, the museum is partnering with the Cranbrook Public Library to conduct the monthly program. The hour-long program consists of a free storytime led by the library\, and a fun and family-friendly craft activity to complete afterwards. Entry to the program is free\, but due to space restrictions\, registration is mandatory. \n  \n  \nRegistration HERE!
URL:https://www.cranbrookhistorycentre.com/event/toddlers-tuesday/
CATEGORIES:Toddler Tuesdays
ATTACH;FMTTYPE=image/png:https://www.cranbrookhistorycentre.com/wp-content/uploads/2022/04/Toddler-Tuesday-IG-all-posts-Facebook-Cover-3.png
END:VEVENT
BEGIN:VEVENT
DTSTART;TZID=America/Edmonton:20220929T183000
DTEND;TZID=America/Edmonton:20220929T213000
DTSTAMP:20260421T163014
CREATED:20220826T214846Z
LAST-MODIFIED:20220830T224752Z
UID:10000290-1664476200-1664487000@www.cranbrookhistorycentre.com
SUMMARY:September Ed Talks - Ticket to Ride Tournament
DESCRIPTION:September’s Ed Talks is going to be a blast!\n\n\n \n\n\nJoin us on September 29th for a Ticket to Ride Board Game Tournament! Doors open at 630PM\, the tournament starts at 7 PM– and this one is going to run late! We’re anticipating the tournament to run until 9 or 930PM.\n\n\n \n\n\nHosted by local Educator and board game enthusiast\, Adam Wills.\n\n\n \n\n\nAdmission is free\, but registration is required.\n\n\n \n\n\nTickets Here
URL:https://www.cranbrookhistorycentre.com/event/september-ed-talks-ticket-to-ride-tournament/
LOCATION:Cranbrook History Centre\, 57 Van Horne Street South\, Cranbrook\, British Columbia\, V1C 4H9\, Canada
CATEGORIES:Ed Talk
ATTACH;FMTTYPE=image/png:https://www.cranbrookhistorycentre.com/wp-content/uploads/2022/08/Legal-Facebook-Post-Instagram-Post-Square-1.png
END:VEVENT
END:VCALENDAR