BEGIN:VCALENDAR
VERSION:2.0
PRODID:-//Cranbrook History Centre - ECPv6.15.20//NONSGML v1.0//EN
CALSCALE:GREGORIAN
METHOD:PUBLISH
X-ORIGINAL-URL:https://www.cranbrookhistorycentre.com
X-WR-CALDESC:Events for Cranbrook History Centre
REFRESH-INTERVAL;VALUE=DURATION:PT1H
X-Robots-Tag:noindex
X-PUBLISHED-TTL:PT1H
BEGIN:VTIMEZONE
TZID:America/Edmonton
BEGIN:DAYLIGHT
TZOFFSETFROM:-0700
TZOFFSETTO:-0600
TZNAME:MDT
DTSTART:20210314T090000
END:DAYLIGHT
BEGIN:STANDARD
TZOFFSETFROM:-0600
TZOFFSETTO:-0700
TZNAME:MST
DTSTART:20211107T080000
END:STANDARD
BEGIN:DAYLIGHT
TZOFFSETFROM:-0700
TZOFFSETTO:-0600
TZNAME:MDT
DTSTART:20220313T090000
END:DAYLIGHT
BEGIN:STANDARD
TZOFFSETFROM:-0600
TZOFFSETTO:-0700
TZNAME:MST
DTSTART:20221106T080000
END:STANDARD
BEGIN:DAYLIGHT
TZOFFSETFROM:-0700
TZOFFSETTO:-0600
TZNAME:MDT
DTSTART:20230312T090000
END:DAYLIGHT
BEGIN:STANDARD
TZOFFSETFROM:-0600
TZOFFSETTO:-0700
TZNAME:MST
DTSTART:20231105T080000
END:STANDARD
END:VTIMEZONE
BEGIN:VEVENT
DTSTART;TZID=America/Edmonton:20220804T190000
DTEND;TZID=America/Edmonton:20220804T200000
DTSTAMP:20260421T162933
CREATED:20220720T215522Z
LAST-MODIFIED:20220722T191217Z
UID:10000286-1659639600-1659643200@www.cranbrookhistorycentre.com
SUMMARY:August Ed Talk - Brennan Martens
DESCRIPTION:Take a journey with University of Alberta Paleo student and Director of the Vancouver Paleontological Society Brennan Martens through how fossil hunting at a young age led to a lifelong love for and career in Paleontology. \nDoors open at 630PM\, show starts at 7PM. \nAdmission is always free but registration is required. \nWho says there’s nothing to do in Cranbrook? \nRegister here\n 
URL:https://www.cranbrookhistorycentre.com/event/august-ed-talk-brennan-martens/
LOCATION:Cranbrook History Centre\, 57 Van Horne Street South\, Cranbrook\, British Columbia\, V1C 4H9\, Canada
CATEGORIES:Ed Talk
ATTACH;FMTTYPE=image/png:https://www.cranbrookhistorycentre.com/wp-content/uploads/2022/07/free-PALEONTOLOGY-LECTURE-Thursday-AUGUST-4th-2022-7-8-pm-royal-alexandra-hall.png
END:VEVENT
BEGIN:VEVENT
DTSTART;TZID=America/Edmonton:20220806T103000
DTEND;TZID=America/Edmonton:20220806T113000
DTSTAMP:20260421T162933
CREATED:20220628T174615Z
LAST-MODIFIED:20220712T155705Z
UID:10000198-1659781800-1659785400@www.cranbrookhistorycentre.com
SUMMARY:Historic Walking Tours - The Communities That Forged Cranbrook
DESCRIPTION:Historic Walking Tours – The Communities That Forged Cranbrook\nMeet up at The Cranbrook History Centre \nTickets $7.50 \nKids 10 and under Free \n*Make sure to select the date in the drop-down menu you wish to take* \nPurchase Tickets HERE
URL:https://www.cranbrookhistorycentre.com/event/historic-walking-tours-the-communities-that-forged-cranbrook-5/
ATTACH;FMTTYPE=image/png:https://www.cranbrookhistorycentre.com/wp-content/uploads/2022/06/Summer-Walking-Tours.png
END:VEVENT
BEGIN:VEVENT
DTSTART;TZID=America/Edmonton:20220808T080000
DTEND;TZID=America/Edmonton:20220812T170000
DTSTAMP:20260421T162933
CREATED:20220527T234524Z
LAST-MODIFIED:20220712T222308Z
UID:10000284-1659945600-1660323600@www.cranbrookhistorycentre.com
SUMMARY:Jr. Paleontology Summer Camp
DESCRIPTION:This year\, Junior Paleontology will be run through a five-day-long camp that focuses on geology\, evolution and extinction\, fossils\, and paleontology. Junior Paleo will be running the week of July 11th to 15th\, August 8th to 12th and August 22nd to 26th. Our programs are designed to be as active as possible with plenty of hands-on learning and opportunities for growth and exploration! \nCamps will run Monday to Friday\, 9 am to 4 pm\, for children ages 6-12. \n\nPricing:\n  \nFull Week Camp – $250 Child\nSibling Ticket     – $225 Sibling \n  \nItinerary:\nDAY ONE: GEOLOGY\nDAY TWO: EVOLUTION AND EXTINCTION\nDAY THREE: FOSSILS\nDAY FOUR: PALEONTOLOGY\nDAY FIVE: CULMINATION DAY\nWe have sold out for our July session of Junior Paleontology! Didn’t get a chance to register? There are still spots available for August! \nCLICK HERE TO REGISTER FOR AUGUST 8-12 SESSION (SOLD OUT)\n  \nCLICK HERE TO REGISTER FOR AUGUST 22-26 SESSION\nMore Information can be found below:\nhttps://www.cranbrookhistorycentre.com/program/summer-camps-2022/
URL:https://www.cranbrookhistorycentre.com/event/jr-paleontology-summer-camp-2/
CATEGORIES:Kids Camp,Special Event
ATTACH;FMTTYPE=image/png:https://www.cranbrookhistorycentre.com/wp-content/uploads/2022/05/action-Facebook-Cover-1.png
END:VEVENT
BEGIN:VEVENT
DTSTART;TZID=America/Edmonton:20220813T103000
DTEND;TZID=America/Edmonton:20220813T113000
DTSTAMP:20260421T162933
CREATED:20220628T174836Z
LAST-MODIFIED:20220712T155730Z
UID:10000199-1660386600-1660390200@www.cranbrookhistorycentre.com
SUMMARY:Historic Walking Tours - The Communities That Forged Cranbrook
DESCRIPTION:Historic Walking Tours – The Communities That Forged Cranbrook\nMeet up at The Cranbrook History Centre \nTickets $7.50 \nKids 10 and under Free \n*Make sure to select the date in the drop-down menu you wish to take* \nPurchase Tickets HERE
URL:https://www.cranbrookhistorycentre.com/event/historic-walking-tours-the-communities-that-forged-cranbrook-6/
ATTACH;FMTTYPE=image/png:https://www.cranbrookhistorycentre.com/wp-content/uploads/2022/06/Summer-Walking-Tours.png
END:VEVENT
BEGIN:VEVENT
DTSTART;TZID=America/Edmonton:20220820T103000
DTEND;TZID=America/Edmonton:20220820T113000
DTSTAMP:20260421T162933
CREATED:20220628T174912Z
LAST-MODIFIED:20220712T155755Z
UID:10000200-1660991400-1660995000@www.cranbrookhistorycentre.com
SUMMARY:Historic Walking Tours - The Communities That Forged Cranbrook
DESCRIPTION:Historic Walking Tours – The Communities That Forged Cranbrook\nMeet up at The Cranbrook History Centre \nTickets $7.50 \nKids 10 and under Free \n*Make sure to select the date in the drop-down menu you wish to take* \nPurchase Tickets HERE
URL:https://www.cranbrookhistorycentre.com/event/historic-walking-tours-the-communities-that-forged-cranbrook-7/
ATTACH;FMTTYPE=image/png:https://www.cranbrookhistorycentre.com/wp-content/uploads/2022/06/Summer-Walking-Tours.png
END:VEVENT
BEGIN:VEVENT
DTSTART;TZID=America/Edmonton:20220822T080000
DTEND;TZID=America/Edmonton:20220822T160000
DTSTAMP:20260421T162933
CREATED:20220630T215629Z
LAST-MODIFIED:20220714T152336Z
UID:10000203-1661155200-1661184000@www.cranbrookhistorycentre.com
SUMMARY:Jr Paleontology Summer Camp
DESCRIPTION:This year\, Junior Paleontology will be run through a five-day-long camp that focuses on geology\, evolution and extinction\, fossils\, and paleontology. Junior Paleo will be running the week of July 11th to 15th\, August 8th to 12th and August 22nd to 26th. Our programs are designed to be as active as possible with plenty of hands-on learning and opportunities for growth and exploration! \nCamps will run Monday to Friday\, 9 am to 4 pm\, for children ages 6-12. \n\nPricing:\n  \nFull Week Camp – $250 Child\nSibling Ticket     – $225 Sibling \n  \nItinerary:\nDAY ONE: GEOLOGY\nDAY TWO: EVOLUTION AND EXTINCTION\nDAY THREE: FOSSILS\nDAY FOUR: PALEONTOLOGY\nDAY FIVE: CULMINATION DAY\nWe have sold out for our July session of Junior Paleontology! Didn’t get a chance to register? There are still spots available for August! \nCLICK HERE TO REGISTER FOR AUGUST 8-12 SESSION\n  \nCLICK HERE TO REGISTER FOR AUGUST 22-26 SESSION\nMore Information can be found below:\nhttps://www.cranbrookhistorycentre.com/program/summer-camps-2022/
URL:https://www.cranbrookhistorycentre.com/event/jr-paleontology-summer-camp-3/
ATTACH;FMTTYPE=image/png:https://www.cranbrookhistorycentre.com/wp-content/uploads/2022/06/One-date-only.png
END:VEVENT
BEGIN:VEVENT
DTSTART;TZID=America/Edmonton:20220827T103000
DTEND;TZID=America/Edmonton:20220827T113000
DTSTAMP:20260421T162933
CREATED:20220628T175004Z
LAST-MODIFIED:20220628T175047Z
UID:10000201-1661596200-1661599800@www.cranbrookhistorycentre.com
SUMMARY:Historic Walking Tours - The Communities That Forged Cranbrook
DESCRIPTION:Historic Walking Tours – The Communities That Forged Cranbrook\nMeet up at The Cranbrook History Centre \nTickets $7.50 \nKids 10 and under Free \n*Make sure to select the date in the drop-down menu you wish to take* \nPurchase Tickets HERE
URL:https://www.cranbrookhistorycentre.com/event/historic-walking-tours-the-communities-that-forged-cranbrook-8/
ATTACH;FMTTYPE=image/png:https://www.cranbrookhistorycentre.com/wp-content/uploads/2022/06/Summer-Walking-Tours.png
END:VEVENT
BEGIN:VEVENT
DTSTART;TZID=America/Edmonton:20220831T190000
DTEND;TZID=America/Edmonton:20220831T200000
DTSTAMP:20260421T162933
CREATED:20220808T170624Z
LAST-MODIFIED:20220809T152555Z
UID:10000287-1661972400-1661976000@www.cranbrookhistorycentre.com
SUMMARY:August Ed Talk - Ka*Kin Na Na Youth Drum Group from the Ktunaxa Nation
DESCRIPTION:August 31st\, 2022 we have a very special Ed Talks!\n\n\n \n\n\nJoin us IN IDLEWILD PARK\, for the Ka*Kin Na Na Youth Drum Group from the Ktunaxa Nation! \n\nThe group will speak on their formation and perform several drum songs from their people and culture.\n\n\n \n\n\nPerformance starts at 7PM\, at the Idlewild Park Bandstand.\n\n\n\nTickets Here
URL:https://www.cranbrookhistorycentre.com/event/august-ed-talk-kakin-na-na-youth-drum-group-from-the-ktunaxa-nation/
LOCATION:Idlewild Park\, Summit Dr S\, Cranbrook\, British Columbia\, V1C 7A8
CATEGORIES:Ed Talk
ATTACH;FMTTYPE=image/png:https://www.cranbrookhistorycentre.com/wp-content/uploads/2022/08/Youth-drum-group-from-the-Ktunaxa-Nation-11-×-17-in-Facebook-Cover-Instagram-Post-Square.png
END:VEVENT
END:VCALENDAR