BEGIN:VCALENDAR
VERSION:2.0
PRODID:-//Cranbrook History Centre - ECPv6.15.20//NONSGML v1.0//EN
CALSCALE:GREGORIAN
METHOD:PUBLISH
X-WR-CALNAME:Cranbrook History Centre
X-ORIGINAL-URL:https://www.cranbrookhistorycentre.com
X-WR-CALDESC:Events for Cranbrook History Centre
REFRESH-INTERVAL;VALUE=DURATION:PT1H
X-Robots-Tag:noindex
X-PUBLISHED-TTL:PT1H
BEGIN:VTIMEZONE
TZID:America/Edmonton
BEGIN:DAYLIGHT
TZOFFSETFROM:-0700
TZOFFSETTO:-0600
TZNAME:MDT
DTSTART:20210314T090000
END:DAYLIGHT
BEGIN:STANDARD
TZOFFSETFROM:-0600
TZOFFSETTO:-0700
TZNAME:MST
DTSTART:20211107T080000
END:STANDARD
BEGIN:DAYLIGHT
TZOFFSETFROM:-0700
TZOFFSETTO:-0600
TZNAME:MDT
DTSTART:20220313T090000
END:DAYLIGHT
BEGIN:STANDARD
TZOFFSETFROM:-0600
TZOFFSETTO:-0700
TZNAME:MST
DTSTART:20221106T080000
END:STANDARD
BEGIN:DAYLIGHT
TZOFFSETFROM:-0700
TZOFFSETTO:-0600
TZNAME:MDT
DTSTART:20230312T090000
END:DAYLIGHT
BEGIN:STANDARD
TZOFFSETFROM:-0600
TZOFFSETTO:-0700
TZNAME:MST
DTSTART:20231105T080000
END:STANDARD
END:VTIMEZONE
BEGIN:VEVENT
DTSTART;TZID=America/Edmonton:20220709T103000
DTEND;TZID=America/Edmonton:20220709T233000
DTSTAMP:20260421T181504
CREATED:20220628T172957Z
LAST-MODIFIED:20220628T173521Z
UID:10000194-1657362600-1657409400@www.cranbrookhistorycentre.com
SUMMARY:Historic Walking Tours - The Communities That Forged Cranbrook
DESCRIPTION:Historic Walking Tours – The Communities That Forged Cranbrook \nMeet up at The Cranbrook History Centre \nTickets $7.50 \nKids 10 and under Free \n*Make sure to select the date in the drop-down menu you wish to take* \nPurchase Tickets HERE
URL:https://www.cranbrookhistorycentre.com/event/historic-walking-tours-the-communities-that-forged-cranbrook/
LOCATION:Cranbrook History Centre\, 57 Van Horne Street South\, Cranbrook\, British Columbia\, V1C 4H9\, Canada
CATEGORIES:Special Event
ATTACH;FMTTYPE=image/png:https://www.cranbrookhistorycentre.com/wp-content/uploads/2022/06/Summer-Walking-Tours.png
END:VEVENT
BEGIN:VEVENT
DTSTART;TZID=America/Edmonton:20220711T090000
DTEND;TZID=America/Edmonton:20220715T160000
DTSTAMP:20260421T181504
CREATED:20220519T212510Z
LAST-MODIFIED:20220630T215401Z
UID:10000283-1657530000-1657900800@www.cranbrookhistorycentre.com
SUMMARY:Jr. Paleontology Summer Camp
DESCRIPTION:This year\, Junior Paleontology will be run through a five-day-long camp that focuses on geology\, evolution and extinction\, fossils\, and paleontology. Junior Paleo will be running the week of July 11th to 15th\, August 8th to 12th and August 22nd to 26th. Our programs are designed to be as active as possible with plenty of hands-on learning and opportunities for growth and exploration! \nCamps will run Monday to Friday\, 9 am to 4 pm\, for children ages 6-12. \n\nPricing:\n  \nFull Week Camp – $250 Child\nSibling Ticket     – $225 Sibling \n  \nItinerary:\nDAY ONE: GEOLOGY\nDAY TWO: EVOLUTION AND EXTINCTION\nDAY THREE: FOSSILS\nDAY FOUR: PALEONTOLOGY\nDAY FIVE: CULMINATION DAY\nWe have sold out for our July session of Junior Paleontology! Didn’t get a chance to register? There are still spots available for August! \nCLICK HERE TO REGISTER FOR AUGUST 8-12 SESSION\n  \nCLICK HERE TO REGISTER FOR AUGUST 22-26 SESSION\nMore Information can be found below:\nhttps://www.cranbrookhistorycentre.com/program/summer-camps-2022/
URL:https://www.cranbrookhistorycentre.com/event/jr-paleontology-summer-camp/
CATEGORIES:Kids Camp,Special Event
ATTACH;FMTTYPE=image/png:https://www.cranbrookhistorycentre.com/wp-content/uploads/2022/05/action-Facebook-Cover-1.png
END:VEVENT
BEGIN:VEVENT
DTSTART;TZID=America/Edmonton:20220716T103000
DTEND;TZID=America/Edmonton:20220716T113000
DTSTAMP:20260421T181504
CREATED:20220628T174348Z
LAST-MODIFIED:20220712T155412Z
UID:10000195-1657967400-1657971000@www.cranbrookhistorycentre.com
SUMMARY:Historic Walking Tours - The Communities That Forged Cranbrook
DESCRIPTION:Historic Walking Tours – The Communities That Forged Cranbrook\nMeet up at The Cranbrook History Centre \nTickets $7.50 \nKids 10 and under Free \n*Make sure to select the date in the drop-down menu you wish to take* \nPurchase Tickets HERE
URL:https://www.cranbrookhistorycentre.com/event/historic-walking-tours-the-communities-that-forged-cranbrook-2/
ATTACH;FMTTYPE=image/png:https://www.cranbrookhistorycentre.com/wp-content/uploads/2022/06/Summer-Walking-Tours.png
END:VEVENT
BEGIN:VEVENT
DTSTART;TZID=America/Edmonton:20220723T103000
DTEND;TZID=America/Edmonton:20220723T113000
DTSTAMP:20260421T181504
CREATED:20220628T174453Z
LAST-MODIFIED:20220712T155603Z
UID:10000196-1658572200-1658575800@www.cranbrookhistorycentre.com
SUMMARY:Historic Walking Tours - The Communities That Forged Cranbrook
DESCRIPTION:Historic Walking Tours – The Communities That Forged Cranbrook\nMeet up at The Cranbrook History Centre \nTickets $7.50 \nKids 10 and under Free \n*Make sure to select the date in the drop-down menu you wish to take* \nPurchase Tickets HERE
URL:https://www.cranbrookhistorycentre.com/event/historic-walking-tours-the-communities-that-forged-cranbrook-3/
ATTACH;FMTTYPE=image/png:https://www.cranbrookhistorycentre.com/wp-content/uploads/2022/06/Summer-Walking-Tours.png
END:VEVENT
BEGIN:VEVENT
DTSTART;TZID=America/Edmonton:20220730T103000
DTEND;TZID=America/Edmonton:20220730T113000
DTSTAMP:20260421T181504
CREATED:20220628T174535Z
LAST-MODIFIED:20220712T155625Z
UID:10000197-1659177000-1659180600@www.cranbrookhistorycentre.com
SUMMARY:Historic Walking Tours - The Communities That Forged Cranbrook
DESCRIPTION:Historic Walking Tours – The Communities That Forged Cranbrook\nMeet up at The Cranbrook History Centre \nTickets $7.50 \nKids 10 and under Free \n*Make sure to select the date in the drop-down menu you wish to take* \nPurchase Tickets HERE
URL:https://www.cranbrookhistorycentre.com/event/historic-walking-tours-the-communities-that-forged-cranbrook-4/
ATTACH;FMTTYPE=image/png:https://www.cranbrookhistorycentre.com/wp-content/uploads/2022/06/Summer-Walking-Tours.png
END:VEVENT
END:VCALENDAR