BEGIN:VCALENDAR
VERSION:2.0
PRODID:-//Cranbrook History Centre - ECPv6.15.20//NONSGML v1.0//EN
CALSCALE:GREGORIAN
METHOD:PUBLISH
X-WR-CALNAME:Cranbrook History Centre
X-ORIGINAL-URL:https://www.cranbrookhistorycentre.com
X-WR-CALDESC:Events for Cranbrook History Centre
REFRESH-INTERVAL;VALUE=DURATION:PT1H
X-Robots-Tag:noindex
X-PUBLISHED-TTL:PT1H
BEGIN:VTIMEZONE
TZID:America/Edmonton
BEGIN:DAYLIGHT
TZOFFSETFROM:-0700
TZOFFSETTO:-0600
TZNAME:MDT
DTSTART:20210314T090000
END:DAYLIGHT
BEGIN:STANDARD
TZOFFSETFROM:-0600
TZOFFSETTO:-0700
TZNAME:MST
DTSTART:20211107T080000
END:STANDARD
BEGIN:DAYLIGHT
TZOFFSETFROM:-0700
TZOFFSETTO:-0600
TZNAME:MDT
DTSTART:20220313T090000
END:DAYLIGHT
BEGIN:STANDARD
TZOFFSETFROM:-0600
TZOFFSETTO:-0700
TZNAME:MST
DTSTART:20221106T080000
END:STANDARD
BEGIN:DAYLIGHT
TZOFFSETFROM:-0700
TZOFFSETTO:-0600
TZNAME:MDT
DTSTART:20230312T090000
END:DAYLIGHT
BEGIN:STANDARD
TZOFFSETFROM:-0600
TZOFFSETTO:-0700
TZNAME:MST
DTSTART:20231105T080000
END:STANDARD
END:VTIMEZONE
BEGIN:VEVENT
DTSTART;TZID=America/Edmonton:20220219T100000
DTEND;TZID=America/Edmonton:20220219T150000
DTSTAMP:20260424T111353
CREATED:20220202T172610Z
LAST-MODIFIED:20220204T211535Z
UID:10000190-1645264800-1645282800@www.cranbrookhistorycentre.com
SUMMARY:Family Day at the CHC
DESCRIPTION:Celebrate Family Day at the Cranbrook History Centre! Enjoy FREE Museum admission\, take in our paleontology collection and chat with local experienced fossil collector Guy Santucci. Warm up with complimentary Coffee or hot chocolate. Kid’s will win a small prize for completing a game of I-Spy or a scavenger hunt. For 2022\, we’ve developed a new booklet for the Paleo Home Kit; try it out for FREE one day only. The number of kits is limited; therefore\, rentals are on a first-come\, first-serve basis. This activity is supported by the Province of British Columbia. \nSee you there!
URL:https://www.cranbrookhistorycentre.com/event/family-day-at-the-chc/
LOCATION:Cranbrook History Centre\, 57 Van Horne Street South\, Cranbrook\, British Columbia\, V1C 4H9\, Canada
ATTACH;FMTTYPE=image/png:https://www.cranbrookhistorycentre.com/wp-content/uploads/2022/02/family-day-promo-7.png
ORGANIZER;CN="Cranbrook History Centre":MAILTO:programs@cranbrookhistorycentre.com
END:VEVENT
BEGIN:VEVENT
DTSTART;TZID=America/Edmonton:20220222T103000
DTEND;TZID=America/Edmonton:20220222T113000
DTSTAMP:20260424T111353
CREATED:20220104T211055Z
LAST-MODIFIED:20220216T184822Z
UID:10000189-1645525800-1645529400@www.cranbrookhistorycentre.com
SUMMARY:Toddler Tuesday
DESCRIPTION:[gravityform id=”27″ title=”true” description=”true”]Toddler Tuesdays is an off-season (September – May) program that takes place at the Cranbrook History Centre on the last Tuesday of every month. \nAs a way of connecting our community with our collections\, the museum is partnering with the Cranbrook Public Library to conduct the monthly program. The hour long program consists of a free story time led by the library\, and a fun and family friendly craft activity to complete afterwards. Entry to the program is free\, but due to space restrictions\, registration is mandatory. \nThis Toddler Tuesday is February 22nd: \nBooks we’ll be reading: Supplied by the Cranbrook Public Library \nCraft Activity: Name Train  \nRecommended Ages: 2-5
URL:https://www.cranbrookhistorycentre.com/event/toddler-tuesday/
LOCATION:Cranbrook History Centre\, 57 Van Horne Street South\, Cranbrook\, British Columbia\, V1C 4H9\, Canada
ORGANIZER;CN="Cranbrook History Centre":MAILTO:programs@cranbrookhistorycentre.com
END:VEVENT
END:VCALENDAR