BEGIN:VCALENDAR
VERSION:2.0
PRODID:-//Cranbrook History Centre - ECPv6.15.20//NONSGML v1.0//EN
CALSCALE:GREGORIAN
METHOD:PUBLISH
X-ORIGINAL-URL:https://www.cranbrookhistorycentre.com
X-WR-CALDESC:Events for Cranbrook History Centre
REFRESH-INTERVAL;VALUE=DURATION:PT1H
X-Robots-Tag:noindex
X-PUBLISHED-TTL:PT1H
BEGIN:VTIMEZONE
TZID:America/Edmonton
BEGIN:DAYLIGHT
TZOFFSETFROM:-0700
TZOFFSETTO:-0600
TZNAME:MDT
DTSTART:20200308T090000
END:DAYLIGHT
BEGIN:STANDARD
TZOFFSETFROM:-0600
TZOFFSETTO:-0700
TZNAME:MST
DTSTART:20201101T080000
END:STANDARD
BEGIN:DAYLIGHT
TZOFFSETFROM:-0700
TZOFFSETTO:-0600
TZNAME:MDT
DTSTART:20210314T090000
END:DAYLIGHT
BEGIN:STANDARD
TZOFFSETFROM:-0600
TZOFFSETTO:-0700
TZNAME:MST
DTSTART:20211107T080000
END:STANDARD
BEGIN:DAYLIGHT
TZOFFSETFROM:-0700
TZOFFSETTO:-0600
TZNAME:MDT
DTSTART:20220313T090000
END:DAYLIGHT
BEGIN:STANDARD
TZOFFSETFROM:-0600
TZOFFSETTO:-0700
TZNAME:MST
DTSTART:20221106T080000
END:STANDARD
END:VTIMEZONE
BEGIN:VEVENT
DTSTART;TZID=America/Edmonton:20211221T103000
DTEND;TZID=America/Edmonton:20211221T113000
DTSTAMP:20260424T141539
CREATED:20211202T211304Z
LAST-MODIFIED:20211202T211304Z
UID:10000188-1640082600-1640086200@www.cranbrookhistorycentre.com
SUMMARY:Toddler Tuesday: Holiday Edition
DESCRIPTION:Toddler Tuesdays is an off-season (September – May) program that takes place at the Cranbrook History Centre on the last Tuesday of every month. \nAs a way of connecting our community with our collections\, the museum is partnering with the Cranbrook Public Library to conduct the monthly program. The hour long program consists of a free story time led by the library\, and a fun and family friendly craft activity to complete afterwards. Entry to the program is free\, but due to space restrictions\, registration is mandatory. \nPlease note: All adults attending Toddler Tuesday must provide proof of vaccination and anyone over the age of five must wear a mask while participating in the event. \nThe next Toddler Tuesday is on December 21st \nThe books we’ll be reading are supplied by the Cranbrook Public Library \nCraft Activity: Snowflake Making \nRecommended Ages: 2-5 \n  \n[gravityform id=”24″ title=”false” description=”false”]
URL:https://www.cranbrookhistorycentre.com/event/toddler-tuesday-holiday-edition/
LOCATION:Cranbrook History Centre\, 57 Van Horne Street South\, Cranbrook\, British Columbia\, V1C 4H9\, Canada
ATTACH;FMTTYPE=image/png:https://www.cranbrookhistorycentre.com/wp-content/uploads/2021/12/Holiday-themed-Toddler-Tuesday-Facebook-Cover.png
ORGANIZER;CN="Cranbrook History Centre":MAILTO:programs@cranbrookhistorycentre.com
END:VEVENT
END:VCALENDAR