BEGIN:VCALENDAR
VERSION:2.0
PRODID:-//Cranbrook History Centre - ECPv6.15.20//NONSGML v1.0//EN
CALSCALE:GREGORIAN
METHOD:PUBLISH
X-ORIGINAL-URL:https://www.cranbrookhistorycentre.com
X-WR-CALDESC:Events for Cranbrook History Centre
REFRESH-INTERVAL;VALUE=DURATION:PT1H
X-Robots-Tag:noindex
X-PUBLISHED-TTL:PT1H
BEGIN:VTIMEZONE
TZID:America/Edmonton
BEGIN:DAYLIGHT
TZOFFSETFROM:-0700
TZOFFSETTO:-0600
TZNAME:MDT
DTSTART:20200308T090000
END:DAYLIGHT
BEGIN:STANDARD
TZOFFSETFROM:-0600
TZOFFSETTO:-0700
TZNAME:MST
DTSTART:20201101T080000
END:STANDARD
BEGIN:DAYLIGHT
TZOFFSETFROM:-0700
TZOFFSETTO:-0600
TZNAME:MDT
DTSTART:20210314T090000
END:DAYLIGHT
BEGIN:STANDARD
TZOFFSETFROM:-0600
TZOFFSETTO:-0700
TZNAME:MST
DTSTART:20211107T080000
END:STANDARD
BEGIN:DAYLIGHT
TZOFFSETFROM:-0700
TZOFFSETTO:-0600
TZNAME:MDT
DTSTART:20220313T090000
END:DAYLIGHT
BEGIN:STANDARD
TZOFFSETFROM:-0600
TZOFFSETTO:-0700
TZNAME:MST
DTSTART:20221106T080000
END:STANDARD
END:VTIMEZONE
BEGIN:VEVENT
DTSTART;TZID=America/Edmonton:20211123T103000
DTEND;TZID=America/Edmonton:20211123T233000
DTSTAMP:20260424T154456
CREATED:20210909T225041Z
LAST-MODIFIED:20211123T153143Z
UID:10000268-1637663400-1637710200@www.cranbrookhistorycentre.com
SUMMARY:Toddler Tuesday
DESCRIPTION:  \nToddler Tuesdays is an off-season (September – May) program that takes place at the Cranbrook History Centre on the last Tuesday of every month. \nAs a way of connecting our community with our collections\, the museum is partnering with the Cranbrook Public Library to conduct the monthly program. The hour long program consists of a free story time led by the library\, and a fun and family friendly craft activity to complete afterwards. Entry to the program is free\, but due to space restrictions\, registration is mandatory. \nThis Toddler Tuesday is November 23rd: \nBooks we’ll be reading: Supplied by the Cranbrook Public Library \nCraft Activity: Making Your Own Conductor’s Hat \nRecommended Ages: 2-5 \nThe November Toddler Tuesday is now full. Please check back for the January Toddler Tuesday. \n[gravityform id=”23″ title=”true” description=”true”]
URL:https://www.cranbrookhistorycentre.com/event/toddler-tuesday-reading-on-the-train-2021-11-23/
LOCATION:Cranbrook History Centre\, 57 Van Horne Street South\, Cranbrook\, British Columbia\, V1C 4H9\, Canada
CATEGORIES:Special Event
ATTACH;FMTTYPE=image/png:https://www.cranbrookhistorycentre.com/wp-content/uploads/2021/09/2.png
ORGANIZER;CN="Cranbrook History Centre":MAILTO:programs@cranbrookhistorycentre.com
END:VEVENT
BEGIN:VEVENT
DTSTART;TZID=America/Edmonton:20211124T190000
DTEND;TZID=America/Edmonton:20211124T200000
DTSTAMP:20260424T154456
CREATED:20211022T161225Z
LAST-MODIFIED:20211109T194121Z
UID:10000187-1637780400-1637784000@www.cranbrookhistorycentre.com
SUMMARY:Ed Talk | Lest We Forget - Cranbrook at War: Home and Away
DESCRIPTION:Lest We Forget – Cranbrook at War: Home and Away\nOn November 24th\, the Cranbrook History Centre is inviting local author Jim Cameron to join us for another wonderful and moving presentation. Anyone who attended his talk on July 21st will remember how powerfully Jim can tell a story. This time\, we are welcoming Jim for a night of remembrance. He will weave a tale of the people of Cranbrook and how they experienced the Boer War\, and the First and Second World Wars. From the lives of those who stayed home\, to the brave soldiers who never returned\, come join us to learn about the impact of the wars on this small rocky mountain town. \nMore About Our Presenter:\nJim Cameron was born and raised in Cranbrook\, B.C.\, where his family roots go back well over a century. A professional musician\, artist and author\, he has dedicated a great deal of time and research to local Cranbrook history. Writer of the popular and long-running newspaper column “Janus – Cranbrook Then and Now\,” he has more recently authored two very successful history books: Cranbrook Then and Now – Volumes One and Two. \n  \n  \n  \n  \n  \n  \nPlease note:  \nThis event will be taking place in person at the Royal Alexandra Hall. We will be requiring all attendees to show proof of vaccination for the event\, and to wear masks inside the museum. We are also limiting our capacity to 50 registrations. If you register for the event and can no longer make it\, please notify us so that we can make the seat available to a different attendee. \nFor those who are not comfortable attending the event in person\, we will livestream the presentation on youtube. It will also be kept on our youtube page for those who want to re-visit or who are not able to attend the event. \n[gravityform id=”21″ title=”true” description=”true”]
URL:https://www.cranbrookhistorycentre.com/event/ed-talk-lest-we-forget-cranbrook-at-war-home-and-away/
LOCATION:Cranbrook History Centre\, 57 Van Horne Street South\, Cranbrook\, British Columbia\, V1C 4H9\, Canada
CATEGORIES:Ed Talk
ATTACH;FMTTYPE=image/png:https://www.cranbrookhistorycentre.com/wp-content/uploads/2021/10/Nov-2021-Ed-Talk-Facebook-Event-Cover.png
ORGANIZER;CN="Cranbrook History Centre":MAILTO:programs@cranbrookhistorycentre.com
END:VEVENT
END:VCALENDAR