BEGIN:VCALENDAR
VERSION:2.0
PRODID:-//Cranbrook History Centre - ECPv6.15.20//NONSGML v1.0//EN
CALSCALE:GREGORIAN
METHOD:PUBLISH
X-ORIGINAL-URL:https://www.cranbrookhistorycentre.com
X-WR-CALDESC:Events for Cranbrook History Centre
REFRESH-INTERVAL;VALUE=DURATION:PT1H
X-Robots-Tag:noindex
X-PUBLISHED-TTL:PT1H
BEGIN:VTIMEZONE
TZID:America/Edmonton
BEGIN:DAYLIGHT
TZOFFSETFROM:-0700
TZOFFSETTO:-0600
TZNAME:MDT
DTSTART:20200308T090000
END:DAYLIGHT
BEGIN:STANDARD
TZOFFSETFROM:-0600
TZOFFSETTO:-0700
TZNAME:MST
DTSTART:20201101T080000
END:STANDARD
BEGIN:DAYLIGHT
TZOFFSETFROM:-0700
TZOFFSETTO:-0600
TZNAME:MDT
DTSTART:20210314T090000
END:DAYLIGHT
BEGIN:STANDARD
TZOFFSETFROM:-0600
TZOFFSETTO:-0700
TZNAME:MST
DTSTART:20211107T080000
END:STANDARD
BEGIN:DAYLIGHT
TZOFFSETFROM:-0700
TZOFFSETTO:-0600
TZNAME:MDT
DTSTART:20220313T090000
END:DAYLIGHT
BEGIN:STANDARD
TZOFFSETFROM:-0600
TZOFFSETTO:-0700
TZNAME:MST
DTSTART:20221106T080000
END:STANDARD
END:VTIMEZONE
BEGIN:VEVENT
DTSTART;TZID=America/Edmonton:20211026T103000
DTEND;TZID=America/Edmonton:20211026T233000
DTSTAMP:20260424T171257
CREATED:20210909T225041Z
LAST-MODIFIED:20211019T175921Z
UID:10000266-1635244200-1635291000@www.cranbrookhistorycentre.com
SUMMARY:Toddler Tuesday
DESCRIPTION:  \nToddler Tuesdays is an off-season (September – May) program that takes place at the Cranbrook History Centre on the last Tuesday of every month. \nAs a way of connecting our community with our collections\, the museum is partnering with the Cranbrook Public Library to conduct the monthly program. The hour long program consists of a free story time led by the library\, and a fun and family friendly craft activity to complete afterwards. Entry to the program is free\, but due to space restrictions\, registration is mandatory. \nThis Toddler Tuesday is October 26th. Registration will open October 1st. \nBooks we’ll be reading: All about Dinosaurs! \nCraft Activity: Make a dinosaur clothes pin puppet & we’ll be back with our button maker!\n \nRecommended Ages: 2-5 \nPlease note: All adults attending Toddler Tuesday must provide proof of vaccination and wear masks while participating in the event. \n[gravityform id=”20″ title=”true” description=”true”]
URL:https://www.cranbrookhistorycentre.com/event/toddler-tuesday-reading-on-the-train-2021-10-26/
LOCATION:Cranbrook History Centre\, 57 Van Horne Street South\, Cranbrook\, British Columbia\, V1C 4H9\, Canada
CATEGORIES:Special Event
ATTACH;FMTTYPE=image/png:https://www.cranbrookhistorycentre.com/wp-content/uploads/2021/09/2.png
ORGANIZER;CN="Cranbrook History Centre":MAILTO:programs@cranbrookhistorycentre.com
END:VEVENT
END:VCALENDAR